BEGIN:VCALENDAR
VERSION:2.0
PRODID:-//www.ketchikanarts.org//NONSGML kigkonsult.se iCalcreator 2.30.10/
 /
CALSCALE:GREGORIAN
METHOD:PUBLISH
UID:9e133fc0-f4ac-45a5-aaa1-0dc840a58048
X-WR-CALDESC:Join us for the slug weigh-in and big slug contest for those 1
 2 and under. The Slug weigh-in will begin at 9:30am in the intersection of
  Main and Mission street this year!\n\nRemember to keep you slug hydrated 
 and in the shade!
X-WR-RELCALID:a832bad42bd694be9c29788ffe120ecc
X-WR-TIMEZONE:America/Anchorage
BEGIN:VTIMEZONE
TZID:America/Anchorage
BEGIN:STANDARD
TZNAME:AKST
DTSTART:20221106T020000
TZOFFSETFROM:-0800
TZOFFSETTO:-0900
RDATE:20231105T020000
RDATE:20241103T020000
END:STANDARD
BEGIN:DAYLIGHT
TZNAME:AKDT
DTSTART:20230312T020000
TZOFFSETFROM:-0900
TZOFFSETTO:-0800
RDATE:20240310T020000
END:DAYLIGHT
END:VTIMEZONE
BEGIN:VEVENT
UID:c521d978-f7fd-40db-8701-db41af3ea393
DTSTAMP:20260419T115713Z
DESCRIPTION:Join us for the slug weigh-in and big slug contest for those 12
  and under. The Slug weigh-in will begin at 9:30am in the intersection of 
 Main and Mission street this year!\n\nRemember to keep you slug hydrated a
 nd in the shade!
DTSTART;TZID=America/Anchorage:20230805T093000
DTEND;TZID=America/Anchorage:20230805T100000
LOCATION:
SUMMARY:The Big Slug Contest (12 & Under)
END:VEVENT
END:VCALENDAR
