BEGIN:VCALENDAR
VERSION:2.0
PRODID:-//www.ketchikanarts.org//NONSGML kigkonsult.se iCalcreator 2.30.10/
 /
CALSCALE:GREGORIAN
METHOD:PUBLISH
UID:693e9ed0-26cf-4700-a973-37e98928ba9f
X-WR-CALDESC:Fun music from local talent played in various locations around
  the Festival grounds!!
X-WR-RELCALID:11f9ee0c21c99b7b192e90c1b2005a09
X-WR-TIMEZONE:America/Anchorage
BEGIN:VTIMEZONE
TZID:America/Anchorage
BEGIN:STANDARD
TZNAME:AKST
DTSTART:20221106T020000
TZOFFSETFROM:-0800
TZOFFSETTO:-0900
RDATE:20231105T020000
RDATE:20241103T020000
END:STANDARD
BEGIN:DAYLIGHT
TZNAME:AKDT
DTSTART:20230312T020000
TZOFFSETFROM:-0900
TZOFFSETTO:-0800
RDATE:20240310T020000
END:DAYLIGHT
END:VTIMEZONE
BEGIN:VEVENT
UID:784a1c81-5521-4b83-9d1d-dc2833c383a9
DTSTAMP:20260419T115959Z
DESCRIPTION:Fun music from local talent played in various locations around 
 the Festival grounds!!
DTSTART;TZID=America/Anchorage:20230805T120000
DTEND;TZID=America/Anchorage:20230805T170000
LOCATION:
SUMMARY:Blueberry Street Sounds
END:VEVENT
END:VCALENDAR
