BEGIN:VCALENDAR
VERSION:2.0
PRODID:-//www.ketchikanarts.org//NONSGML kigkonsult.se iCalcreator 2.30.10/
 /
CALSCALE:GREGORIAN
METHOD:PUBLISH
UID:aa3ed56d-a2fb-4695-8107-6bb71d4c98a0
X-WR-CALDESC:The Blueberry Arts Festival art exhibit will be on display at 
 the Main Street Gallery from 10am to 5pm. Please come check out the bluebe
 rry-inspired artwork!
X-WR-RELCALID:4eefa4e668ffa5b24bac99164b8701db
X-WR-TIMEZONE:America/Anchorage
BEGIN:VTIMEZONE
TZID:America/Anchorage
BEGIN:STANDARD
TZNAME:AKST
DTSTART:20221106T020000
TZOFFSETFROM:-0800
TZOFFSETTO:-0900
RDATE:20231105T020000
RDATE:20241103T020000
END:STANDARD
BEGIN:DAYLIGHT
TZNAME:AKDT
DTSTART:20230312T020000
TZOFFSETFROM:-0900
TZOFFSETTO:-0800
RDATE:20240310T020000
END:DAYLIGHT
END:VTIMEZONE
BEGIN:VEVENT
UID:32c96f45-d800-447b-9591-61949eb4c37c
DTSTAMP:20260419T120433Z
DESCRIPTION:The Blueberry Arts Festival art exhibit will be on display at t
 he Main Street Gallery from 10am to 5pm. Please come check out the blueber
 ry-inspired artwork!
DTSTART;TZID=America/Anchorage:20230805T100000
DTEND;TZID=America/Anchorage:20230805T170000
LOCATION:330 Main Street\, Ketchikan\, AK 99901 US
SUMMARY:Blueberry Arts Festival Art Exhibit on display at Main St Gallery
END:VEVENT
END:VCALENDAR
