BEGIN:VCALENDAR
VERSION:2.0
PRODID:-//www.ketchikanarts.org//NONSGML kigkonsult.se iCalcreator 2.30.10/
 /
CALSCALE:GREGORIAN
METHOD:PUBLISH
UID:537ca2cd-9737-4d89-8fbb-34c5fc4b5c95
X-WR-CALDESC:
X-WR-RELCALID:6eb69ffb992cb7e99a0eead985d50888
X-WR-TIMEZONE:America/Anchorage
BEGIN:VTIMEZONE
TZID:America/Anchorage
BEGIN:STANDARD
TZNAME:AKST
DTSTART:20221106T020000
TZOFFSETFROM:-0800
TZOFFSETTO:-0900
RDATE:20231105T020000
RDATE:20241103T020000
END:STANDARD
BEGIN:DAYLIGHT
TZNAME:AKDT
DTSTART:20230312T020000
TZOFFSETFROM:-0900
TZOFFSETTO:-0800
RDATE:20240310T020000
END:DAYLIGHT
END:VTIMEZONE
BEGIN:VEVENT
UID:9906167d-0dc7-488a-8a85-e50d0c09446b
DTSTAMP:20260419T134202Z
DESCRIPTION:
DTSTART;TZID=America/Anchorage:20230728T163000
DTEND;TZID=America/Anchorage:20230728T170000
LOCATION:
SUMMARY:Blueberry Arts Festival Art Exhibit Call to Artists
END:VEVENT
END:VCALENDAR
