BEGIN:VCALENDAR
VERSION:2.0
PRODID:-//www.ketchikanarts.org//NONSGML kigkonsult.se iCalcreator 2.30.10/
 /
CALSCALE:GREGORIAN
METHOD:PUBLISH
UID:15ffb3d7-3dc7-4965-b7f3-84cacd0bbe2c
X-WR-CALDESC:
X-WR-RELCALID:8342c5bf0d6ca1ff037b00e705919508
X-WR-TIMEZONE:America/Anchorage
BEGIN:VTIMEZONE
TZID:America/Anchorage
BEGIN:STANDARD
TZNAME:AKST
DTSTART:20221106T020000
TZOFFSETFROM:-0800
TZOFFSETTO:-0900
RDATE:20231105T020000
RDATE:20241103T020000
END:STANDARD
BEGIN:DAYLIGHT
TZNAME:AKDT
DTSTART:20230312T020000
TZOFFSETFROM:-0900
TZOFFSETTO:-0800
RDATE:20240310T020000
END:DAYLIGHT
END:VTIMEZONE
BEGIN:VEVENT
UID:13604fdf-e3f2-473a-b1f7-51a9d58ca178
DTSTAMP:20260419T133336Z
DESCRIPTION:
DTSTART;TZID=America/Anchorage:20230718T120000
DTEND;TZID=America/Anchorage:20230718T130000
LOCATION:
SUMMARY:Music on the Dock - Gateway Duet
END:VEVENT
END:VCALENDAR
