BEGIN:VCALENDAR
VERSION:2.0
PRODID:-//www.ketchikanarts.org//NONSGML kigkonsult.se iCalcreator 2.30.10/
 /
CALSCALE:GREGORIAN
METHOD:PUBLISH
UID:74ec42a2-13a4-44d4-ba27-75ed2e669073
X-WR-CALDESC:Fish Pirate's Daughter\nEnjoy this original show written for K
 etchikan.  \nDoors open Friday and Saturday at 7pm\nAdults $35\, Seniors/A
 ctive Military $30\, Youth 12 and under $25\nTed Ferry Civic Center\n
X-WR-RELCALID:a8c95f0178dd97938a92c35b26c7ea93
X-WR-TIMEZONE:America/Anchorage
BEGIN:VTIMEZONE
TZID:America/Anchorage
BEGIN:STANDARD
TZNAME:AKST
DTSTART:20221106T020000
TZOFFSETFROM:-0800
TZOFFSETTO:-0900
RDATE:20231105T020000
RDATE:20241103T020000
END:STANDARD
BEGIN:DAYLIGHT
TZNAME:AKDT
DTSTART:20230312T020000
TZOFFSETFROM:-0900
TZOFFSETTO:-0800
RDATE:20240310T020000
END:DAYLIGHT
END:VTIMEZONE
BEGIN:VEVENT
UID:cbf6adfb-01d9-4e2e-8e29-1ff94c0da9f6
DTSTAMP:20260419T133714Z
DESCRIPTION:Fish Pirate's Daughter\nEnjoy this original show written for Ke
 tchikan.  \nDoors open Friday and Saturday at 7pm\nAdults $35\, Seniors/Ac
 tive Military $30\, Youth 12 and under $25\nTed Ferry Civic Center\n
DTSTART;TZID=America/Anchorage:20230715T190000
DTEND;TZID=America/Anchorage:20230715T210000
LOCATION:
SUMMARY:Fish Pirate's Daughter
END:VEVENT
END:VCALENDAR
