BEGIN:VCALENDAR
VERSION:2.0
PRODID:-//www.ketchikanarts.org//NONSGML kigkonsult.se iCalcreator 2.30.10/
 /
CALSCALE:GREGORIAN
METHOD:PUBLISH
UID:1cda5ca1-3384-47d2-af7f-1769070272cb
X-WR-CALDESC:Join your favorite host Jack Finnegan for another great night!
  \nSign-ups begin at 7pm\, Stories at 7:30pm \n\n
X-WR-RELCALID:e71d2f2fb3b0a61c7cb24908416818c0
X-WR-TIMEZONE:America/Anchorage
BEGIN:VTIMEZONE
TZID:America/Anchorage
BEGIN:STANDARD
TZNAME:AKST
DTSTART:20221106T020000
TZOFFSETFROM:-0800
TZOFFSETTO:-0900
RDATE:20231105T020000
RDATE:20241103T020000
END:STANDARD
BEGIN:DAYLIGHT
TZNAME:AKDT
DTSTART:20230312T020000
TZOFFSETFROM:-0900
TZOFFSETTO:-0800
RDATE:20240310T020000
END:DAYLIGHT
END:VTIMEZONE
BEGIN:VEVENT
UID:f4917b78-4702-4f0e-98d2-1912c501f16d
DTSTAMP:20260419T133148Z
DESCRIPTION:Join your favorite host Jack Finnegan for another great night! 
 \nSign-ups begin at 7pm\, Stories at 7:30pm \n\n
DTSTART;TZID=America/Anchorage:20230711T190000
DTEND;TZID=America/Anchorage:20230711T210000
LOCATION:
SUMMARY:Summer SLAM
END:VEVENT
END:VCALENDAR
