BEGIN:VCALENDAR
VERSION:2.0
PRODID:-//www.ketchikanarts.org//NONSGML kigkonsult.se iCalcreator 2.30.10/
 /
CALSCALE:GREGORIAN
METHOD:PUBLISH
UID:eb52bff9-85b2-4061-8a76-b25b88529bc7
X-WR-CALDESC:Head to the Ketchikan Public Library for a wonderful time watc
 hing 'Walking with Dinosaurs'!
X-WR-RELCALID:9c3f671785c50bf100fafc344dc9157e
X-WR-TIMEZONE:America/Anchorage
BEGIN:VTIMEZONE
TZID:America/Anchorage
BEGIN:STANDARD
TZNAME:AKST
DTSTART:20221106T020000
TZOFFSETFROM:-0800
TZOFFSETTO:-0900
RDATE:20231105T020000
RDATE:20241103T020000
END:STANDARD
BEGIN:DAYLIGHT
TZNAME:AKDT
DTSTART:20230312T020000
TZOFFSETFROM:-0900
TZOFFSETTO:-0800
RDATE:20240310T020000
END:DAYLIGHT
END:VTIMEZONE
BEGIN:VEVENT
UID:77436a67-50f8-41d8-9ff6-536979168a76
DTSTAMP:20260419T133550Z
DESCRIPTION:Head to the Ketchikan Public Library for a wonderful time watch
 ing 'Walking with Dinosaurs'!
DTSTART;TZID=America/Anchorage:20230706T150000
DTEND;TZID=America/Anchorage:20230706T160000
LOCATION:
SUMMARY:Walking With Dinosaurs Movie Matinee
END:VEVENT
END:VCALENDAR
