BEGIN:VCALENDAR
VERSION:2.0
PRODID:-//www.ketchikanarts.org//NONSGML kigkonsult.se iCalcreator 2.30.10/
 /
CALSCALE:GREGORIAN
METHOD:PUBLISH
UID:95b1d847-f09a-457b-8fa3-e87c2f4801e0
X-WR-CALDESC:
X-WR-RELCALID:19398e8baa1b400edd948e86171edf47
X-WR-TIMEZONE:America/Anchorage
BEGIN:VTIMEZONE
TZID:America/Anchorage
BEGIN:STANDARD
TZNAME:AKST
DTSTART:20221106T020000
TZOFFSETFROM:-0800
TZOFFSETTO:-0900
RDATE:20231105T020000
RDATE:20241103T020000
END:STANDARD
BEGIN:DAYLIGHT
TZNAME:AKDT
DTSTART:20230312T020000
TZOFFSETFROM:-0900
TZOFFSETTO:-0800
RDATE:20240310T020000
END:DAYLIGHT
END:VTIMEZONE
BEGIN:VEVENT
UID:eb632d2f-e32e-4111-814a-9d295b09c627
DTSTAMP:20260419T133318Z
DESCRIPTION:
DTSTART;TZID=America/Anchorage:20230706T000000
DTEND;TZID=America/Anchorage:20230706T235900
LOCATION:
SUMMARY:ArtsCool
END:VEVENT
END:VCALENDAR
