BEGIN:VCALENDAR
VERSION:2.0
PRODID:-//www.ketchikanarts.org//NONSGML kigkonsult.se iCalcreator 2.30.10/
 /
CALSCALE:GREGORIAN
METHOD:PUBLISH
UID:2f97de36-6275-42a5-ac1c-cb5b081c890a
X-WR-CALDESC:
X-WR-RELCALID:093a840d700ad0250e085aeff29243a1
X-WR-TIMEZONE:America/Anchorage
BEGIN:VTIMEZONE
TZID:America/Anchorage
BEGIN:STANDARD
TZNAME:AKST
DTSTART:20221106T020000
TZOFFSETFROM:-0800
TZOFFSETTO:-0900
RDATE:20231105T020000
RDATE:20241103T020000
END:STANDARD
BEGIN:DAYLIGHT
TZNAME:AKDT
DTSTART:20230312T020000
TZOFFSETFROM:-0900
TZOFFSETTO:-0800
RDATE:20240310T020000
END:DAYLIGHT
END:VTIMEZONE
BEGIN:VEVENT
UID:d022b09b-7c56-42bd-8605-0b3385529fdf
DTSTAMP:20260419T133319Z
DESCRIPTION:
DTSTART;TZID=America/Anchorage:20230705T000000
DTEND;TZID=America/Anchorage:20230705T235900
LOCATION:
SUMMARY:ArtsCool
END:VEVENT
END:VCALENDAR
