BEGIN:VCALENDAR
VERSION:2.0
PRODID:-//www.ketchikanarts.org//NONSGML kigkonsult.se iCalcreator 2.30.10/
 /
CALSCALE:GREGORIAN
METHOD:PUBLISH
UID:3b1ed9de-32a1-41f1-b3a7-f47b5944d1ab
X-WR-CALDESC:Los Angeles based Comedian Tommy Brennan coming to Ketchikan t
 o perform live at the Ted Ferry Civic Center!!!\n\n
X-WR-RELCALID:76e77b4020738dbe18e5c5d18bd87da4
X-WR-TIMEZONE:America/Anchorage
BEGIN:VTIMEZONE
TZID:America/Anchorage
BEGIN:STANDARD
TZNAME:AKST
DTSTART:20221106T020000
TZOFFSETFROM:-0800
TZOFFSETTO:-0900
RDATE:20231105T020000
RDATE:20241103T020000
END:STANDARD
BEGIN:DAYLIGHT
TZNAME:AKDT
DTSTART:20230312T020000
TZOFFSETFROM:-0900
TZOFFSETTO:-0800
RDATE:20240310T020000
END:DAYLIGHT
END:VTIMEZONE
BEGIN:VEVENT
UID:7ca89ce1-2485-4a95-915b-0f43662acc57
DTSTAMP:20260419T145838Z
DESCRIPTION:Los Angeles based Comedian Tommy Brennan coming to Ketchikan to
  perform live at the Ted Ferry Civic Center!!!\n\n
DTSTART;TZID=America/Anchorage:20230630T200000
DTEND;TZID=America/Anchorage:20230630T220000
LOCATION:
SUMMARY:Tommy Brennan Comedy Show
END:VEVENT
END:VCALENDAR
