BEGIN:VCALENDAR
VERSION:2.0
PRODID:-//www.ketchikanarts.org//NONSGML kigkonsult.se iCalcreator 2.30.10/
 /
CALSCALE:GREGORIAN
METHOD:PUBLISH
UID:b6898d43-a1ac-4f09-b71f-f06dc198ec94
X-WR-CALDESC:
X-WR-RELCALID:dac51649f59b0565f701e73079131a35
X-WR-TIMEZONE:America/Anchorage
BEGIN:VTIMEZONE
TZID:America/Anchorage
BEGIN:STANDARD
TZNAME:AKST
DTSTART:20221106T020000
TZOFFSETFROM:-0800
TZOFFSETTO:-0900
RDATE:20231105T020000
RDATE:20241103T020000
END:STANDARD
BEGIN:DAYLIGHT
TZNAME:AKDT
DTSTART:20230312T020000
TZOFFSETFROM:-0900
TZOFFSETTO:-0800
RDATE:20240310T020000
END:DAYLIGHT
END:VTIMEZONE
BEGIN:VEVENT
UID:f9a7da23-29e0-4af7-9956-4608ea2b7bbd
DTSTAMP:20260419T145705Z
DESCRIPTION:
DTSTART;TZID=America/Anchorage:20230630T120000
DTEND;TZID=America/Anchorage:20230630T130000
LOCATION:
SUMMARY:Music on the Dock - Big Wave
END:VEVENT
END:VCALENDAR
