BEGIN:VCALENDAR
VERSION:2.0
PRODID:-//www.ketchikanarts.org//NONSGML kigkonsult.se iCalcreator 2.30.10/
 /
CALSCALE:GREGORIAN
METHOD:PUBLISH
UID:4155d5b8-3195-4f1f-8fd5-ab90204d297a
X-WR-CALDESC:
X-WR-RELCALID:ca7cf2684d100fbe12ded8955fa92417
X-WR-TIMEZONE:America/Anchorage
BEGIN:VTIMEZONE
TZID:America/Anchorage
BEGIN:STANDARD
TZNAME:AKST
DTSTART:20221106T020000
TZOFFSETFROM:-0800
TZOFFSETTO:-0900
RDATE:20231105T020000
RDATE:20241103T020000
END:STANDARD
BEGIN:DAYLIGHT
TZNAME:AKDT
DTSTART:20230312T020000
TZOFFSETFROM:-0900
TZOFFSETTO:-0800
RDATE:20240310T020000
END:DAYLIGHT
END:VTIMEZONE
BEGIN:VEVENT
UID:a058a10b-fbf6-4cc3-bf8e-158926ecd175
DTSTAMP:20260419T152429Z
DESCRIPTION:
DTSTART;TZID=America/Anchorage:20230623T120000
DTEND;TZID=America/Anchorage:20230623T130000
LOCATION:
SUMMARY:Music on the Dock - Dave\, Hannah and Chazz with Del Vidal
END:VEVENT
END:VCALENDAR
