BEGIN:VCALENDAR
VERSION:2.0
PRODID:-//www.ketchikanarts.org//NONSGML kigkonsult.se iCalcreator 2.30.10/
 /
CALSCALE:GREGORIAN
METHOD:PUBLISH
UID:e03cb053-021e-457e-b056-26b0557334a6
X-WR-CALDESC:
X-WR-RELCALID:b9def01d2f4c9da577f3d9b191c1f409
X-WR-TIMEZONE:America/Anchorage
BEGIN:VTIMEZONE
TZID:America/Anchorage
BEGIN:STANDARD
TZNAME:AKST
DTSTART:20221106T020000
TZOFFSETFROM:-0800
TZOFFSETTO:-0900
RDATE:20231105T020000
RDATE:20241103T020000
END:STANDARD
BEGIN:DAYLIGHT
TZNAME:AKDT
DTSTART:20230312T020000
TZOFFSETFROM:-0900
TZOFFSETTO:-0800
RDATE:20240310T020000
END:DAYLIGHT
END:VTIMEZONE
BEGIN:VEVENT
UID:8a72c86f-caa4-4aca-8f5e-dccef1995fbc
DTSTAMP:20260419T152357Z
DESCRIPTION:
DTSTART;TZID=America/Anchorage:20230620T120000
DTEND;TZID=America/Anchorage:20230620T130000
LOCATION:
SUMMARY:Music on the Dock - The Point Band with Del Vidal
END:VEVENT
END:VCALENDAR
