BEGIN:VCALENDAR
VERSION:2.0
PRODID:-//www.ketchikanarts.org//NONSGML kigkonsult.se iCalcreator 2.30.10/
 /
CALSCALE:GREGORIAN
METHOD:PUBLISH
UID:8caae3b0-97a3-482c-9f0b-df0b6b3d6a8d
X-WR-CALDESC:
X-WR-RELCALID:54b6b3ab4369f41772e43af42b7c0e58
X-WR-TIMEZONE:America/Anchorage
BEGIN:VTIMEZONE
TZID:America/Anchorage
BEGIN:STANDARD
TZNAME:AKST
DTSTART:20221106T020000
TZOFFSETFROM:-0800
TZOFFSETTO:-0900
RDATE:20231105T020000
RDATE:20241103T020000
END:STANDARD
BEGIN:DAYLIGHT
TZNAME:AKDT
DTSTART:20230312T020000
TZOFFSETFROM:-0900
TZOFFSETTO:-0800
RDATE:20240310T020000
END:DAYLIGHT
END:VTIMEZONE
BEGIN:VEVENT
UID:2ba13b82-678d-43da-9428-61a8567fdb4e
DTSTAMP:20260419T152049Z
DESCRIPTION:
DTSTART;TZID=America/Anchorage:20230616T120000
DTEND;TZID=America/Anchorage:20230616T130000
LOCATION:
SUMMARY:Music on the Dock - Stephanie Patton Trio
END:VEVENT
END:VCALENDAR
