BEGIN:VCALENDAR
VERSION:2.0
PRODID:-//www.ketchikanarts.org//NONSGML kigkonsult.se iCalcreator 2.30.10/
 /
CALSCALE:GREGORIAN
METHOD:PUBLISH
UID:7bafa22f-e756-43ad-bb1e-96d4d2bb259a
X-WR-CALDESC:
X-WR-RELCALID:2623bddd33482e04f318243ba3733dd4
X-WR-TIMEZONE:America/Anchorage
BEGIN:VTIMEZONE
TZID:America/Anchorage
BEGIN:STANDARD
TZNAME:AKST
DTSTART:20221106T020000
TZOFFSETFROM:-0800
TZOFFSETTO:-0900
RDATE:20231105T020000
RDATE:20241103T020000
END:STANDARD
BEGIN:DAYLIGHT
TZNAME:AKDT
DTSTART:20230312T020000
TZOFFSETFROM:-0900
TZOFFSETTO:-0800
RDATE:20240310T020000
END:DAYLIGHT
END:VTIMEZONE
BEGIN:VEVENT
UID:e38b3111-7b97-474a-8c21-de06d0d5d0d2
DTSTAMP:20260419T152217Z
DESCRIPTION:
DTSTART;TZID=America/Anchorage:20230615T120000
DTEND;TZID=America/Anchorage:20230615T130000
LOCATION:
SUMMARY:Music on the Dock - Obvious Jazz
END:VEVENT
END:VCALENDAR
