BEGIN:VCALENDAR
VERSION:2.0
PRODID:-//www.ketchikanarts.org//NONSGML kigkonsult.se iCalcreator 2.30.10/
 /
CALSCALE:GREGORIAN
METHOD:PUBLISH
UID:2131f979-f6e5-40fe-b565-502ad2e29eb0
X-WR-CALDESC:
X-WR-RELCALID:8ae560fec5b1132939784a147b6cec3f
X-WR-TIMEZONE:America/Anchorage
BEGIN:VTIMEZONE
TZID:America/Anchorage
BEGIN:STANDARD
TZNAME:AKST
DTSTART:20221106T020000
TZOFFSETFROM:-0800
TZOFFSETTO:-0900
RDATE:20231105T020000
RDATE:20241103T020000
END:STANDARD
BEGIN:DAYLIGHT
TZNAME:AKDT
DTSTART:20230312T020000
TZOFFSETFROM:-0900
TZOFFSETTO:-0800
RDATE:20240310T020000
END:DAYLIGHT
END:VTIMEZONE
BEGIN:VEVENT
UID:bc6ecf63-1caa-4c09-8b9a-24549d37f259
DTSTAMP:20260419T152312Z
DESCRIPTION:
DTSTART;TZID=America/Anchorage:20230613T120000
DTEND;TZID=America/Anchorage:20230613T130000
LOCATION:
SUMMARY:Music on the Dock - Lallette Kistler
END:VEVENT
END:VCALENDAR
