BEGIN:VCALENDAR
VERSION:2.0
PRODID:-//www.ketchikanarts.org//NONSGML kigkonsult.se iCalcreator 2.30.10/
 /
CALSCALE:GREGORIAN
METHOD:PUBLISH
UID:4eb002e5-30df-44b0-ad87-60439acda903
X-WR-CALDESC:
X-WR-RELCALID:02dbc2049cc3973d2825f65222e61383
X-WR-TIMEZONE:America/Anchorage
BEGIN:VTIMEZONE
TZID:America/Anchorage
BEGIN:STANDARD
TZNAME:AKST
DTSTART:20221106T020000
TZOFFSETFROM:-0800
TZOFFSETTO:-0900
RDATE:20231105T020000
RDATE:20241103T020000
END:STANDARD
BEGIN:DAYLIGHT
TZNAME:AKDT
DTSTART:20230312T020000
TZOFFSETFROM:-0900
TZOFFSETTO:-0800
RDATE:20240310T020000
END:DAYLIGHT
END:VTIMEZONE
BEGIN:VEVENT
UID:05cc84f2-84a6-4643-97db-33a855691153
DTSTAMP:20260419T145543Z
DESCRIPTION:
DTSTART;TZID=America/Anchorage:20230609T120000
DTEND;TZID=America/Anchorage:20230609T130000
LOCATION:
SUMMARY:Music on the Dock - The String Beings
END:VEVENT
END:VCALENDAR
