BEGIN:VCALENDAR
VERSION:2.0
PRODID:-//www.ketchikanarts.org//NONSGML kigkonsult.se iCalcreator 2.30.10/
 /
CALSCALE:GREGORIAN
METHOD:PUBLISH
UID:b500dbae-472b-4af4-b87f-272bcc2c71f5
X-WR-CALDESC:The Ketchikan Dance Film Festival will take place Saturday\, S
 ept. 30th 2023 in downtown Ketchikan\, AK. Hosted by Hughes And Vecchione 
 Dance Projects. Official selections for the 2023 Ketchikan Dance Film Fest
 ival will be presented to a live audience during a free indoor screening a
 t the downtown Ketchikan Coliseum Theatre.
X-WR-RELCALID:95a30308879e18ca28de8bede8b9ccd2
X-WR-TIMEZONE:America/Anchorage
BEGIN:VTIMEZONE
TZID:America/Anchorage
BEGIN:STANDARD
TZNAME:AKST
DTSTART:20221106T020000
TZOFFSETFROM:-0800
TZOFFSETTO:-0900
RDATE:20231105T020000
RDATE:20241103T020000
END:STANDARD
BEGIN:DAYLIGHT
TZNAME:AKDT
DTSTART:20230312T020000
TZOFFSETFROM:-0900
TZOFFSETTO:-0800
RDATE:20240310T020000
END:DAYLIGHT
END:VTIMEZONE
BEGIN:VEVENT
UID:87f3d75b-ba66-4bf8-a8cc-7ed1c527c441
DTSTAMP:20260419T152552Z
DESCRIPTION:The Ketchikan Dance Film Festival will take place Saturday\, Se
 pt. 30th 2023 in downtown Ketchikan\, AK. Hosted by Hughes And Vecchione D
 ance Projects. Official selections for the 2023 Ketchikan Dance Film Festi
 val will be presented to a live audience during a free indoor screening at
  the downtown Ketchikan Coliseum Theatre.
DTSTART;TZID=America/Anchorage:20230601T000000
DTEND;TZID=America/Anchorage:20230601T235900
LOCATION:
SUMMARY:Ketchikan Dance Film Festival Submission
END:VEVENT
END:VCALENDAR
