BEGIN:VCALENDAR
VERSION:2.0
PRODID:-//www.ketchikanarts.org//NONSGML kigkonsult.se iCalcreator 2.30.10/
 /
CALSCALE:GREGORIAN
METHOD:PUBLISH
UID:a9cd4bc9-7adb-4ade-ae6e-bf3d2ba3b155
X-WR-CALDESC:Classes for adults and youth coming soon!!!!  Call Alma with y
 our questions.
X-WR-RELCALID:97502840f0c07180ea2ea84316052566
X-WR-TIMEZONE:America/Anchorage
BEGIN:VTIMEZONE
TZID:America/Anchorage
BEGIN:STANDARD
TZNAME:AKST
DTSTART:20221106T020000
TZOFFSETFROM:-0800
TZOFFSETTO:-0900
RDATE:20231105T020000
RDATE:20241103T020000
END:STANDARD
BEGIN:DAYLIGHT
TZNAME:AKDT
DTSTART:20230312T020000
TZOFFSETFROM:-0900
TZOFFSETTO:-0800
RDATE:20240310T020000
END:DAYLIGHT
END:VTIMEZONE
BEGIN:VEVENT
UID:500e11e7-090f-4cd7-981e-a44961037f8b
DTSTAMP:20260419T162938Z
DESCRIPTION:Classes for adults and youth coming soon!!!!  Call Alma with yo
 ur questions.
DTSTART;TZID=America/Anchorage:20230531T170000
DTEND;TZID=America/Anchorage:20230531T180000
LOCATION:
SUMMARY:Filipino Folk Dance Classes!!!!
END:VEVENT
END:VCALENDAR
