BEGIN:VCALENDAR
VERSION:2.0
PRODID:-//www.ketchikanarts.org//NONSGML kigkonsult.se iCalcreator 2.30.10/
 /
CALSCALE:GREGORIAN
METHOD:PUBLISH
UID:ccd06243-1d1c-41ef-9eaa-d2be6ae51d9c
X-WR-CALDESC:Sign up to perform for KRBD's Live Day!!!  Or just turn on the
  radio and enjoy great music performed by local musicians!
X-WR-RELCALID:2dfc56a85b575d403ebf521b4ef79e22
X-WR-TIMEZONE:America/Anchorage
BEGIN:VTIMEZONE
TZID:America/Anchorage
BEGIN:STANDARD
TZNAME:AKST
DTSTART:20221106T020000
TZOFFSETFROM:-0800
TZOFFSETTO:-0900
RDATE:20231105T020000
RDATE:20241103T020000
END:STANDARD
BEGIN:DAYLIGHT
TZNAME:AKDT
DTSTART:20230312T020000
TZOFFSETFROM:-0900
TZOFFSETTO:-0800
RDATE:20240310T020000
END:DAYLIGHT
END:VTIMEZONE
BEGIN:VEVENT
UID:ab3db295-167a-424d-9e9d-1bf5b26b77d6
DTSTAMP:20260419T163021Z
DESCRIPTION:Sign up to perform for KRBD's Live Day!!!  Or just turn on the 
 radio and enjoy great music performed by local musicians!
DTSTART;TZID=America/Anchorage:20230527T153000
DTEND;TZID=America/Anchorage:20230527T163000
LOCATION:
SUMMARY:Live Day at KRBD!!
END:VEVENT
END:VCALENDAR
