BEGIN:VCALENDAR
VERSION:2.0
PRODID:-//www.ketchikanarts.org//NONSGML kigkonsult.se iCalcreator 2.30.10/
 /
CALSCALE:GREGORIAN
METHOD:PUBLISH
UID:a80915a2-a4e6-435a-b4c8-99f743145dbf
X-WR-CALDESC:Join Woody's Finest Hour at Ward Cove \nThis is sure to a fant
 astic time with a food truck and drinks to be bought! \n5pm-7pm\nNo Cover 
 \n
X-WR-RELCALID:1865206f5ff6c0a7a4783b2075f12256
X-WR-TIMEZONE:America/Anchorage
BEGIN:VTIMEZONE
TZID:America/Anchorage
BEGIN:STANDARD
TZNAME:AKST
DTSTART:20221106T020000
TZOFFSETFROM:-0800
TZOFFSETTO:-0900
RDATE:20231105T020000
RDATE:20241103T020000
END:STANDARD
BEGIN:DAYLIGHT
TZNAME:AKDT
DTSTART:20230312T020000
TZOFFSETFROM:-0900
TZOFFSETTO:-0800
RDATE:20240310T020000
END:DAYLIGHT
END:VTIMEZONE
BEGIN:VEVENT
UID:96feed11-7bfe-4220-b1ef-a7746bedec4b
DTSTAMP:20260419T164045Z
DESCRIPTION:Join Woody's Finest Hour at Ward Cove \nThis is sure to a fanta
 stic time with a food truck and drinks to be bought! \n5pm-7pm\nNo Cover 
 \n
DTSTART;TZID=America/Anchorage:20230519T170000
DTEND;TZID=America/Anchorage:20230519T190000
LOCATION:
SUMMARY:Woody's Finest Hour at Ward Cove
END:VEVENT
END:VCALENDAR
