BEGIN:VCALENDAR
VERSION:2.0
PRODID:-//www.ketchikanarts.org//NONSGML kigkonsult.se iCalcreator 2.30.10/
 /
CALSCALE:GREGORIAN
METHOD:PUBLISH
UID:835e42ac-ca4d-4fac-971e-97d0eae401d9
X-WR-CALDESC:
X-WR-RELCALID:153b3cd3aa5e46845c70a4bde69629b8
X-WR-TIMEZONE:America/Anchorage
BEGIN:VTIMEZONE
TZID:America/Anchorage
BEGIN:STANDARD
TZNAME:AKST
DTSTART:20221106T020000
TZOFFSETFROM:-0800
TZOFFSETTO:-0900
RDATE:20231105T020000
RDATE:20241103T020000
END:STANDARD
BEGIN:DAYLIGHT
TZNAME:AKDT
DTSTART:20230312T020000
TZOFFSETFROM:-0900
TZOFFSETTO:-0800
RDATE:20240310T020000
END:DAYLIGHT
END:VTIMEZONE
BEGIN:VEVENT
UID:fbd29a1c-6fdd-4107-8ff3-a08f1a3c5a6c
DTSTAMP:20260419T164044Z
DESCRIPTION:
DTSTART;TZID=America/Anchorage:20230513T140000
DTEND;TZID=America/Anchorage:20230513T153000
LOCATION:
SUMMARY:Ketchikan Theatre Ballet Spring Gala!
END:VEVENT
END:VCALENDAR
