BEGIN:VCALENDAR
VERSION:2.0
PRODID:-//www.ketchikanarts.org//NONSGML kigkonsult.se iCalcreator 2.30.10/
 /
CALSCALE:GREGORIAN
METHOD:PUBLISH
UID:4ebc4d5f-a977-44b1-aad0-37feaffab0a0
X-WR-CALDESC:
X-WR-RELCALID:82051307071e3b18c504ad9ac0ca58a8
X-WR-TIMEZONE:America/Anchorage
BEGIN:VTIMEZONE
TZID:America/Anchorage
BEGIN:STANDARD
TZNAME:AKST
DTSTART:20221106T020000
TZOFFSETFROM:-0800
TZOFFSETTO:-0900
RDATE:20231105T020000
RDATE:20241103T020000
END:STANDARD
BEGIN:DAYLIGHT
TZNAME:AKDT
DTSTART:20230312T020000
TZOFFSETFROM:-0900
TZOFFSETTO:-0800
RDATE:20240310T020000
END:DAYLIGHT
END:VTIMEZONE
BEGIN:VEVENT
UID:4553bd49-5df5-43e9-9c44-b386af96bec9
DTSTAMP:20260419T163936Z
DESCRIPTION:
DTSTART;TZID=America/Anchorage:20230512T193000
DTEND;TZID=America/Anchorage:20230512T210000
LOCATION:
SUMMARY:Ketchikan Theatre Ballet Spring Gala!
END:VEVENT
END:VCALENDAR
