BEGIN:VCALENDAR
VERSION:2.0
PRODID:-//www.ketchikanarts.org//NONSGML kigkonsult.se iCalcreator 2.30.10/
 /
CALSCALE:GREGORIAN
METHOD:PUBLISH
UID:c945c14b-a144-431f-9c8c-d7c5af729dba
X-WR-CALDESC:
X-WR-RELCALID:fc8ae6e48356c30e4090a1d712214d81
X-WR-TIMEZONE:America/Anchorage
BEGIN:VTIMEZONE
TZID:America/Anchorage
BEGIN:STANDARD
TZNAME:AKST
DTSTART:20221106T020000
TZOFFSETFROM:-0800
TZOFFSETTO:-0900
RDATE:20231105T020000
RDATE:20241103T020000
END:STANDARD
BEGIN:DAYLIGHT
TZNAME:AKDT
DTSTART:20230312T020000
TZOFFSETFROM:-0900
TZOFFSETTO:-0800
RDATE:20240310T020000
END:DAYLIGHT
END:VTIMEZONE
BEGIN:VEVENT
UID:e8f36d13-7376-40a3-861a-cc18be93aecf
DTSTAMP:20260419T164212Z
DESCRIPTION:
DTSTART;TZID=America/Anchorage:20230511T190000
DTEND;TZID=America/Anchorage:20230511T210000
LOCATION:Main Street Gallery
SUMMARY:Diane Slagle Presents the Eclectic Voices of the 80's
END:VEVENT
END:VCALENDAR
