BEGIN:VCALENDAR
VERSION:2.0
PRODID:-//www.ketchikanarts.org//NONSGML kigkonsult.se iCalcreator 2.30.10/
 /
CALSCALE:GREGORIAN
METHOD:PUBLISH
UID:a8f13ee4-1f3c-4ad7-a745-bb5dff2f8e4c
X-WR-CALDESC:
X-WR-RELCALID:076ceb0fe96d869ec8044d3b9c24340c
X-WR-TIMEZONE:America/Anchorage
BEGIN:VTIMEZONE
TZID:America/Anchorage
BEGIN:STANDARD
TZNAME:AKST
DTSTART:20221106T020000
TZOFFSETFROM:-0800
TZOFFSETTO:-0900
RDATE:20231105T020000
RDATE:20241103T020000
END:STANDARD
BEGIN:DAYLIGHT
TZNAME:AKDT
DTSTART:20230312T020000
TZOFFSETFROM:-0900
TZOFFSETTO:-0800
RDATE:20240310T020000
END:DAYLIGHT
END:VTIMEZONE
BEGIN:VEVENT
UID:8880ae49-cd57-4633-b289-5a0df0be540f
DTSTAMP:20260419T163941Z
DESCRIPTION:
DTSTART;TZID=America/Anchorage:20230508T173000
DTEND;TZID=America/Anchorage:20230508T193000
LOCATION:
SUMMARY:BOOMbal Dance Hall
END:VEVENT
END:VCALENDAR
