BEGIN:VCALENDAR
VERSION:2.0
PRODID:-//www.ketchikanarts.org//NONSGML kigkonsult.se iCalcreator 2.30.10/
 /
CALSCALE:GREGORIAN
METHOD:PUBLISH
UID:fdf1137f-7c11-4327-8b4c-e340374df78d
X-WR-CALDESC:NOTE THE DATE OF THE GRIND IN MAY!!!! \n\nGet tickets at TBC\,
  Soho Coho or at the link below!!!!
X-WR-RELCALID:b406776c21b7cb43dbc581647c8f0fbd
X-WR-TIMEZONE:America/Anchorage
BEGIN:VTIMEZONE
TZID:America/Anchorage
BEGIN:STANDARD
TZNAME:AKST
DTSTART:20221106T020000
TZOFFSETFROM:-0800
TZOFFSETTO:-0900
RDATE:20231105T020000
RDATE:20241103T020000
END:STANDARD
BEGIN:DAYLIGHT
TZNAME:AKDT
DTSTART:20230312T020000
TZOFFSETFROM:-0900
TZOFFSETTO:-0800
RDATE:20240310T020000
END:DAYLIGHT
END:VTIMEZONE
BEGIN:VEVENT
UID:d582997e-1c85-4260-890a-3f07349a069c
DTSTAMP:20260419T163021Z
DESCRIPTION:NOTE THE DATE OF THE GRIND IN MAY!!!! \n\nGet tickets at TBC\, 
 Soho Coho or at the link below!!!!
DTSTART;TZID=America/Anchorage:20230506T190000
DTEND;TZID=America/Anchorage:20230506T203000
LOCATION:Saxman Tribal House
SUMMARY:The Monthly Grind
END:VEVENT
END:VCALENDAR
