BEGIN:VCALENDAR
VERSION:2.0
PRODID:-//www.ketchikanarts.org//NONSGML kigkonsult.se iCalcreator 2.30.10/
 /
CALSCALE:GREGORIAN
METHOD:PUBLISH
UID:bc430aaf-d045-4bda-a0e4-c5aa50e34b1b
X-WR-CALDESC:
X-WR-RELCALID:fb089d9b5abf38615deef31df918658c
X-WR-TIMEZONE:America/Anchorage
BEGIN:VTIMEZONE
TZID:America/Anchorage
BEGIN:STANDARD
TZNAME:AKST
DTSTART:20221106T020000
TZOFFSETFROM:-0800
TZOFFSETTO:-0900
RDATE:20231105T020000
END:STANDARD
BEGIN:DAYLIGHT
TZNAME:AKDT
DTSTART:20230312T020000
TZOFFSETFROM:-0900
TZOFFSETTO:-0800
RDATE:20240310T020000
END:DAYLIGHT
END:VTIMEZONE
BEGIN:VEVENT
UID:505bfab2-2ad8-4a65-8c69-e9ab52f85fe6
DTSTAMP:20260419T180827Z
DESCRIPTION:
DTSTART;TZID=America/Anchorage:20230423T143000
DTEND;TZID=America/Anchorage:20230423T160000
LOCATION:
SUMMARY:First City Players - Charlie and the Chocolate Factory
END:VEVENT
END:VCALENDAR
