BEGIN:VCALENDAR
VERSION:2.0
PRODID:-//www.ketchikanarts.org//NONSGML kigkonsult.se iCalcreator 2.30.10/
 /
CALSCALE:GREGORIAN
METHOD:PUBLISH
UID:c87b72ae-78a4-4909-ab22-a11b134f970c
X-WR-CALDESC:
X-WR-RELCALID:13f0789b51e499200745c580546a04a4
X-WR-TIMEZONE:America/Anchorage
BEGIN:VTIMEZONE
TZID:America/Anchorage
BEGIN:STANDARD
TZNAME:AKST
DTSTART:20221106T020000
TZOFFSETFROM:-0800
TZOFFSETTO:-0900
RDATE:20231105T020000
END:STANDARD
BEGIN:DAYLIGHT
TZNAME:AKDT
DTSTART:20230312T020000
TZOFFSETFROM:-0900
TZOFFSETTO:-0800
RDATE:20240310T020000
END:DAYLIGHT
END:VTIMEZONE
BEGIN:VEVENT
UID:d1970ea7-3dca-4523-a2a7-4061f3cfacef
DTSTAMP:20260419T180950Z
DESCRIPTION:
DTSTART;TZID=America/Anchorage:20230422T193000
DTEND;TZID=America/Anchorage:20230422T210000
LOCATION:
SUMMARY:First City Players - Charlie and the Chocolate Factory
END:VEVENT
END:VCALENDAR
