BEGIN:VCALENDAR
VERSION:2.0
PRODID:-//www.ketchikanarts.org//NONSGML kigkonsult.se iCalcreator 2.30.10/
 /
CALSCALE:GREGORIAN
METHOD:PUBLISH
UID:492f37cf-452e-4a5d-a525-e23ab8f7bb80
X-WR-CALDESC:
X-WR-RELCALID:63bfc9eca1947ebd780dfd30a85db5f9
X-WR-TIMEZONE:America/Anchorage
BEGIN:VTIMEZONE
TZID:America/Anchorage
BEGIN:STANDARD
TZNAME:AKST
DTSTART:20221106T020000
TZOFFSETFROM:-0800
TZOFFSETTO:-0900
RDATE:20231105T020000
END:STANDARD
BEGIN:DAYLIGHT
TZNAME:AKDT
DTSTART:20230312T020000
TZOFFSETFROM:-0900
TZOFFSETTO:-0800
RDATE:20240310T020000
END:DAYLIGHT
END:VTIMEZONE
BEGIN:VEVENT
UID:52c932b4-6437-4cf7-bafd-329212d4b262
DTSTAMP:20260419T180731Z
DESCRIPTION:
DTSTART;TZID=America/Anchorage:20230421T193000
DTEND;TZID=America/Anchorage:20230421T210000
LOCATION:
SUMMARY:First City Players - Charlie and the Chocolate Factory
END:VEVENT
END:VCALENDAR
