BEGIN:VCALENDAR
VERSION:2.0
PRODID:-//www.ketchikanarts.org//NONSGML kigkonsult.se iCalcreator 2.30.10/
 /
CALSCALE:GREGORIAN
METHOD:PUBLISH
UID:02279184-d2c6-48f4-8bb2-4f44e991a820
X-WR-CALDESC:
X-WR-RELCALID:3e4acf4caca2a198d8d36cb65b5db5bd
X-WR-TIMEZONE:America/Anchorage
BEGIN:VTIMEZONE
TZID:America/Anchorage
BEGIN:STANDARD
TZNAME:AKST
DTSTART:20221106T020000
TZOFFSETFROM:-0800
TZOFFSETTO:-0900
RDATE:20231105T020000
END:STANDARD
BEGIN:DAYLIGHT
TZNAME:AKDT
DTSTART:20230312T020000
TZOFFSETFROM:-0900
TZOFFSETTO:-0800
RDATE:20240310T020000
END:DAYLIGHT
END:VTIMEZONE
BEGIN:VEVENT
UID:77ccf742-c0d0-40bd-b73d-2200f9a0d681
DTSTAMP:20260419T180905Z
DESCRIPTION:
DTSTART;TZID=America/Anchorage:20230420T190000
DTEND;TZID=America/Anchorage:20230420T210000
LOCATION:Main Street Gallery
SUMMARY:Diane Slagle Presents the Singer Songwriters of the 70's
END:VEVENT
END:VCALENDAR
