BEGIN:VCALENDAR
VERSION:2.0
PRODID:-//www.ketchikanarts.org//NONSGML kigkonsult.se iCalcreator 2.30.10/
 /
CALSCALE:GREGORIAN
METHOD:PUBLISH
UID:e9cc3ddc-e78d-4c12-8a52-e19eeeb749f3
X-WR-CALDESC:Wednesday\, April 19\, 2023\, 7:00pm\nFirst Lutheran Church\nA
 dmission is by donation\n
X-WR-RELCALID:f27cbfb44591e9384da5e752704cf63e
X-WR-TIMEZONE:America/Anchorage
BEGIN:VTIMEZONE
TZID:America/Anchorage
BEGIN:STANDARD
TZNAME:AKST
DTSTART:20221106T020000
TZOFFSETFROM:-0800
TZOFFSETTO:-0900
RDATE:20231105T020000
END:STANDARD
BEGIN:DAYLIGHT
TZNAME:AKDT
DTSTART:20230312T020000
TZOFFSETFROM:-0900
TZOFFSETTO:-0800
RDATE:20240310T020000
END:DAYLIGHT
END:VTIMEZONE
BEGIN:VEVENT
UID:714d00d9-7cf1-4708-bc53-626a56d8a853
DTSTAMP:20260419T180236Z
DESCRIPTION:Wednesday\, April 19\, 2023\, 7:00pm\nFirst Lutheran Church\nAd
 mission is by donation\n
DTSTART;TZID=America/Anchorage:20230419T190000
DTEND;TZID=America/Anchorage:20230419T203000
LOCATION:
SUMMARY:Ketchikan Chamber Orchestra Performance
END:VEVENT
END:VCALENDAR
