BEGIN:VCALENDAR
VERSION:2.0
PRODID:-//www.ketchikanarts.org//NONSGML kigkonsult.se iCalcreator 2.30.10/
 /
CALSCALE:GREGORIAN
METHOD:PUBLISH
UID:bf4877cb-841e-42c8-8df3-7f608d0be7bb
X-WR-CALDESC:
X-WR-RELCALID:b1886efb88a0ec4cf4b2516546d88a29
X-WR-TIMEZONE:America/Anchorage
BEGIN:VTIMEZONE
TZID:America/Anchorage
BEGIN:STANDARD
TZNAME:AKST
DTSTART:20221106T020000
TZOFFSETFROM:-0800
TZOFFSETTO:-0900
RDATE:20231105T020000
END:STANDARD
BEGIN:DAYLIGHT
TZNAME:AKDT
DTSTART:20230312T020000
TZOFFSETFROM:-0900
TZOFFSETTO:-0800
RDATE:20240310T020000
END:DAYLIGHT
END:VTIMEZONE
BEGIN:VEVENT
UID:16aa54c4-0074-4cf2-9809-8b5827ed6a7f
DTSTAMP:20260419T180859Z
DESCRIPTION:
DTSTART;TZID=America/Anchorage:20230415T000000
DTEND;TZID=America/Anchorage:20230415T235900
LOCATION:
SUMMARY:Regional Music Festival
END:VEVENT
END:VCALENDAR
