BEGIN:VCALENDAR
VERSION:2.0
PRODID:-//www.ketchikanarts.org//NONSGML kigkonsult.se iCalcreator 2.30.10/
 /
CALSCALE:GREGORIAN
METHOD:PUBLISH
UID:c972e585-0413-419d-bd6d-9e6b131bd176
X-WR-CALDESC:
X-WR-RELCALID:4dba75fcc6511b5f06badb3ba8a6b1f3
X-WR-TIMEZONE:America/Anchorage
BEGIN:VTIMEZONE
TZID:America/Anchorage
BEGIN:STANDARD
TZNAME:AKST
DTSTART:20221106T020000
TZOFFSETFROM:-0800
TZOFFSETTO:-0900
RDATE:20231105T020000
END:STANDARD
BEGIN:DAYLIGHT
TZNAME:AKDT
DTSTART:20230312T020000
TZOFFSETFROM:-0900
TZOFFSETTO:-0800
RDATE:20240310T020000
END:DAYLIGHT
END:VTIMEZONE
BEGIN:VEVENT
UID:bfba074e-c595-4171-ba58-0b62e20b80db
DTSTAMP:20260419T180821Z
DESCRIPTION:
DTSTART;TZID=America/Anchorage:20230413T000000
DTEND;TZID=America/Anchorage:20230413T235900
LOCATION:
SUMMARY:Regional Music Festival
END:VEVENT
END:VCALENDAR
