BEGIN:VCALENDAR
VERSION:2.0
PRODID:-//www.ketchikanarts.org//NONSGML kigkonsult.se iCalcreator 2.30.10/
 /
CALSCALE:GREGORIAN
METHOD:PUBLISH
UID:8548174b-1ab4-4220-a826-4da9174df347
X-WR-CALDESC:
X-WR-RELCALID:71abe5415be8a227565ca9b594367e19
X-WR-TIMEZONE:America/Anchorage
BEGIN:VTIMEZONE
TZID:America/Anchorage
BEGIN:STANDARD
TZNAME:AKST
DTSTART:20221106T020000
TZOFFSETFROM:-0800
TZOFFSETTO:-0900
RDATE:20231105T020000
END:STANDARD
BEGIN:DAYLIGHT
TZNAME:AKDT
DTSTART:20230312T020000
TZOFFSETFROM:-0900
TZOFFSETTO:-0800
RDATE:20240310T020000
END:DAYLIGHT
END:VTIMEZONE
BEGIN:VEVENT
UID:93e8e83e-2faf-4939-ac1b-0b889706a826
DTSTAMP:20260419T180114Z
DESCRIPTION:
DTSTART;TZID=America/Anchorage:20230407T000000
DTEND;TZID=America/Anchorage:20230407T235900
LOCATION:
SUMMARY:Middle School Music Day
END:VEVENT
END:VCALENDAR
