BEGIN:VCALENDAR
VERSION:2.0
PRODID:-//www.ketchikanarts.org//NONSGML kigkonsult.se iCalcreator 2.30.10/
 /
CALSCALE:GREGORIAN
METHOD:PUBLISH
UID:342b9369-b7dc-425b-abbe-7a9bd75e1347
X-WR-CALDESC:Join in on an evening of Sea Shanties! Stop by for casual sing
 ing\, dining\, drinks and community!\nAlaska Fish House-6pm
X-WR-RELCALID:2edb28b53ce6c40de2d5dc54147eb1e8
X-WR-TIMEZONE:America/Anchorage
BEGIN:VTIMEZONE
TZID:America/Anchorage
BEGIN:STANDARD
TZNAME:AKST
DTSTART:20221106T020000
TZOFFSETFROM:-0800
TZOFFSETTO:-0900
RDATE:20231105T020000
END:STANDARD
BEGIN:DAYLIGHT
TZNAME:AKDT
DTSTART:20230312T020000
TZOFFSETFROM:-0900
TZOFFSETTO:-0800
RDATE:20240310T020000
END:DAYLIGHT
END:VTIMEZONE
BEGIN:VEVENT
UID:8caadc81-9232-44c0-9077-af4b1170a53b
DTSTAMP:20260419T193516Z
DESCRIPTION:Join in on an evening of Sea Shanties! Stop by for casual singi
 ng\, dining\, drinks and community!\nAlaska Fish House-6pm
DTSTART;TZID=America/Anchorage:20230323T180000
DTEND;TZID=America/Anchorage:20230323T190000
LOCATION:Alaska Fish House
SUMMARY:The Sea Shanty
END:VEVENT
END:VCALENDAR
