BEGIN:VCALENDAR
VERSION:2.0
PRODID:-//www.ketchikanarts.org//NONSGML kigkonsult.se iCalcreator 2.30.10/
 /
CALSCALE:GREGORIAN
METHOD:PUBLISH
UID:3c0c1983-1653-4263-b931-4921d20674ca
X-WR-CALDESC:Be part of a Ketchikan original!!! No experience needed! Young
  people are invited to create art to be worn on the body! All pieces must 
 be original creations (nothing store bought!) . Call if you have questions
 !
X-WR-RELCALID:9c958c4f9ea799c20f0261adc534e1f5
X-WR-TIMEZONE:America/Anchorage
BEGIN:VTIMEZONE
TZID:America/Anchorage
BEGIN:STANDARD
TZNAME:AKST
DTSTART:20221106T020000
TZOFFSETFROM:-0800
TZOFFSETTO:-0900
RDATE:20231105T020000
END:STANDARD
BEGIN:DAYLIGHT
TZNAME:AKDT
DTSTART:20230312T020000
TZOFFSETFROM:-0900
TZOFFSETTO:-0800
RDATE:20240310T020000
END:DAYLIGHT
END:VTIMEZONE
BEGIN:VEVENT
UID:6a1f7853-15c6-4925-8bb9-4304945df735
DTSTAMP:20260419T193618Z
DESCRIPTION:Be part of a Ketchikan original!!! No experience needed! Young 
 people are invited to create art to be worn on the body! All pieces must b
 e original creations (nothing store bought!) . Call if you have questions!
DTSTART;TZID=America/Anchorage:20230315T160000
DTEND;TZID=America/Anchorage:20230315T170000
LOCATION:
SUMMARY:Submission Deadline for the Youth Wearable Art Show
END:VEVENT
END:VCALENDAR
