BEGIN:VCALENDAR
VERSION:2.0
PRODID:-//www.ketchikanarts.org//NONSGML kigkonsult.se iCalcreator 2.30.10/
 /
CALSCALE:GREGORIAN
METHOD:PUBLISH
UID:ced7211f-68c0-4218-a15d-32829997e206
X-WR-CALDESC:
X-WR-RELCALID:6ae1c51686f00b550ebfd3506b5261e1
X-WR-TIMEZONE:America/Anchorage
BEGIN:VTIMEZONE
TZID:America/Anchorage
BEGIN:STANDARD
TZNAME:AKST
DTSTART:20221106T020000
TZOFFSETFROM:-0800
TZOFFSETTO:-0900
RDATE:20231105T020000
END:STANDARD
BEGIN:DAYLIGHT
TZNAME:AKDT
DTSTART:20220313T020000
TZOFFSETFROM:-0900
TZOFFSETTO:-0800
RDATE:20230312T020000
RDATE:20240310T020000
END:DAYLIGHT
END:VTIMEZONE
BEGIN:VEVENT
UID:abb95e3b-a897-4891-9df1-7b473d3efc46
DTSTAMP:20260419T192802Z
DESCRIPTION:
DTSTART;TZID=America/Anchorage:20230312T143000
DTEND;TZID=America/Anchorage:20230312T153000
LOCATION:
SUMMARY:Ketchikan Saint Patrick's Day Parade
END:VEVENT
END:VCALENDAR
