BEGIN:VCALENDAR
VERSION:2.0
PRODID:-//www.ketchikanarts.org//NONSGML kigkonsult.se iCalcreator 2.30.10/
 /
CALSCALE:GREGORIAN
METHOD:PUBLISH
UID:d1ae79a1-238c-4467-a672-644cf14a4e29
X-WR-CALDESC:Workshop Grants support unique\, arts-related activities of li
 mited duration that offer Alaskans the opportunity to participate in an ar
 ts activity not regularly available in their community. All areas of the v
 isual\, performing\, traditional\, craft\, media\, and literary arts\, as 
 well as arts administration\, are eligible disciplines for this grant cate
 gory.
X-WR-RELCALID:d40415f335f501c7129ed4263a42df68
X-WR-TIMEZONE:America/Anchorage
BEGIN:VTIMEZONE
TZID:America/Anchorage
BEGIN:STANDARD
TZNAME:AKST
DTSTART:20221106T020000
TZOFFSETFROM:-0800
TZOFFSETTO:-0900
RDATE:20231105T020000
END:STANDARD
BEGIN:DAYLIGHT
TZNAME:AKDT
DTSTART:20220313T020000
TZOFFSETFROM:-0900
TZOFFSETTO:-0800
RDATE:20230312T020000
RDATE:20240310T020000
END:DAYLIGHT
END:VTIMEZONE
BEGIN:VEVENT
UID:72fd9c5f-9d5f-4188-b1c8-0a8ded615b9f
DTSTAMP:20260419T192734Z
DESCRIPTION:Workshop Grants support unique\, arts-related activities of lim
 ited duration that offer Alaskans the opportunity to participate in an art
 s activity not regularly available in their community. All areas of the vi
 sual\, performing\, traditional\, craft\, media\, and literary arts\, as w
 ell as arts administration\, are eligible disciplines for this grant categ
 ory.
DTSTART;TZID=America/Anchorage:20230301T090000
DTEND;TZID=America/Anchorage:20230301T100000
LOCATION:
SUMMARY:Workshop Grant Submission Deadline
END:VEVENT
END:VCALENDAR
