BEGIN:VCALENDAR
VERSION:2.0
PRODID:-//www.ketchikanarts.org//NONSGML kigkonsult.se iCalcreator 2.30.10/
 /
CALSCALE:GREGORIAN
METHOD:PUBLISH
UID:d676dbdc-49ac-47ad-ac5b-efc3220ac2df
X-WR-CALDESC:Join the Rainy Day Quilt Guild for their annual 'Quilting in t
 he Rain' Quilt Show. Ketchikan's prolific quilters showcase their work in 
 a extraordinary display of talent a the Ted Ferry Civic Center. Vote for y
 our favorite quilt\, tie a string on the 'Community Service' Quilt\, and s
 ee this year's Quilts of Valor. Plus\, don't forget to buy your raffle tic
 ket for the quilt give away!
X-WR-RELCALID:aeb8d3d9f54e15d1be4515a16a63913b
X-WR-TIMEZONE:America/Anchorage
BEGIN:VTIMEZONE
TZID:America/Anchorage
BEGIN:STANDARD
TZNAME:AKST
DTSTART:20221106T020000
TZOFFSETFROM:-0800
TZOFFSETTO:-0900
RDATE:20231105T020000
END:STANDARD
BEGIN:DAYLIGHT
TZNAME:AKDT
DTSTART:20220313T020000
TZOFFSETFROM:-0900
TZOFFSETTO:-0800
RDATE:20230312T020000
RDATE:20240310T020000
END:DAYLIGHT
END:VTIMEZONE
BEGIN:VEVENT
UID:52118e7b-4a38-4e9f-86af-048e572cf07d
DTSTAMP:20260419T210658Z
DESCRIPTION:Join the Rainy Day Quilt Guild for their annual 'Quilting in th
 e Rain' Quilt Show. Ketchikan's prolific quilters showcase their work in a
  extraordinary display of talent a the Ted Ferry Civic Center. Vote for yo
 ur favorite quilt\, tie a string on the 'Community Service' Quilt\, and se
 e this year's Quilts of Valor. Plus\, don't forget to buy your raffle tick
 et for the quilt give away!
DTSTART;TZID=America/Anchorage:20230219T100000
DTEND;TZID=America/Anchorage:20230219T160000
LOCATION:Ted Ferry Civic Center
SUMMARY:Annual 'Quilting in the Rain' Quilt Show
END:VEVENT
END:VCALENDAR
