BEGIN:VCALENDAR
VERSION:2.0
PRODID:-//www.ketchikanarts.org//NONSGML kigkonsult.se iCalcreator 2.30.10/
 /
CALSCALE:GREGORIAN
METHOD:PUBLISH
UID:c0435418-f912-494c-bd93-49d470dbea34
X-WR-CALDESC:
X-WR-RELCALID:f885e6ca249486e772c6579ae8dd4bbd
X-WR-TIMEZONE:America/Anchorage
BEGIN:VTIMEZONE
TZID:America/Anchorage
BEGIN:STANDARD
TZNAME:AKST
DTSTART:20221106T020000
TZOFFSETFROM:-0800
TZOFFSETTO:-0900
RDATE:20231105T020000
END:STANDARD
BEGIN:DAYLIGHT
TZNAME:AKDT
DTSTART:20220313T020000
TZOFFSETFROM:-0900
TZOFFSETTO:-0800
RDATE:20230312T020000
RDATE:20240310T020000
END:DAYLIGHT
END:VTIMEZONE
BEGIN:VEVENT
UID:dd261a4a-6234-46fc-acc1-624ded19df49
DTSTAMP:20260419T223324Z
DESCRIPTION:
DTSTART;TZID=America/Anchorage:20230121T140000
DTEND;TZID=America/Anchorage:20230121T150000
LOCATION:Ted Ferry Civic Center
SUMMARY:2023 Jazz & Cabaret Gala
END:VEVENT
END:VCALENDAR
