BEGIN:VCALENDAR
VERSION:2.0
PRODID:-//www.ketchikanarts.org//NONSGML kigkonsult.se iCalcreator 2.30.10/
 /
CALSCALE:GREGORIAN
METHOD:PUBLISH
UID:6c54c098-f3a4-4616-8e94-954dd91a9225
X-WR-CALDESC:
X-WR-RELCALID:8eb2c2ae3be718d3b7bb5e5f3e932d60
X-WR-TIMEZONE:America/Anchorage
BEGIN:VTIMEZONE
TZID:America/Anchorage
BEGIN:STANDARD
TZNAME:AKST
DTSTART:20221106T020000
TZOFFSETFROM:-0800
TZOFFSETTO:-0900
RDATE:20231105T020000
END:STANDARD
BEGIN:DAYLIGHT
TZNAME:AKDT
DTSTART:20220313T020000
TZOFFSETFROM:-0900
TZOFFSETTO:-0800
RDATE:20230312T020000
RDATE:20240310T020000
END:DAYLIGHT
END:VTIMEZONE
BEGIN:VEVENT
UID:8f09bea0-98e7-498f-b2ee-204905196ba0
DTSTAMP:20260419T224751Z
DESCRIPTION:
DTSTART;TZID=America/Anchorage:20230120T140000
DTEND;TZID=America/Anchorage:20230120T150000
LOCATION:Ted Ferry Civic Center
SUMMARY:2023 Jazz & Cabaret Gala
END:VEVENT
END:VCALENDAR
