BEGIN:VCALENDAR
VERSION:2.0
PRODID:-//www.ketchikanarts.org//NONSGML kigkonsult.se iCalcreator 2.30.10/
 /
CALSCALE:GREGORIAN
METHOD:PUBLISH
UID:d358bbc0-73ec-487c-904e-a6e3a3344f48
X-WR-CALDESC:Art Internships will be awarded to arts students who have comp
 leted two years of college and who are pursuing an arts and science degree
 \, preferably with a focus on Northwest Coast/Alaska Native arts through s
 tudio arts\, performing arts and technology\, or creative writing. Click f
 or more information!\nDeadline to apply January 13th 2023\n
X-WR-RELCALID:2ed1e1fbb304fbef47c3016f2243e12a
X-WR-TIMEZONE:America/Anchorage
BEGIN:VTIMEZONE
TZID:America/Anchorage
BEGIN:STANDARD
TZNAME:AKST
DTSTART:20221106T020000
TZOFFSETFROM:-0800
TZOFFSETTO:-0900
RDATE:20231105T020000
END:STANDARD
BEGIN:DAYLIGHT
TZNAME:AKDT
DTSTART:20220313T020000
TZOFFSETFROM:-0900
TZOFFSETTO:-0800
RDATE:20230312T020000
RDATE:20240310T020000
END:DAYLIGHT
END:VTIMEZONE
BEGIN:VEVENT
UID:f7110f6a-7845-4ac3-89fc-7e83b9a6b763
DTSTAMP:20260419T223236Z
DESCRIPTION:Art Internships will be awarded to arts students who have compl
 eted two years of college and who are pursuing an arts and science degree\
 , preferably with a focus on Northwest Coast/Alaska Native arts through st
 udio arts\, performing arts and technology\, or creative writing. Click fo
 r more information!\nDeadline to apply January 13th 2023\n
DTSTART;TZID=America/Anchorage:20230113T000000
DTEND;TZID=America/Anchorage:20230113T235900
LOCATION:
SUMMARY:Sealaska Heritage Art Internship
END:VEVENT
END:VCALENDAR
