BEGIN:VCALENDAR
VERSION:2.0
PRODID:-//www.ketchikanarts.org//NONSGML kigkonsult.se iCalcreator 2.30.10/
 /
CALSCALE:GREGORIAN
METHOD:PUBLISH
UID:c8f0565a-b268-45ca-8ad8-a6665d2ed1eb
X-WR-CALDESC:Stories at Latitude 56 with host Jack Finnegan bring you seven
  Story SLAM events at the Alaska Fish House! $3 at the door. Join us for i
 mpromptu storytelling with friends\, neighbors\, and visitors! Themes are 
 suggestions\, not requirements!\n
X-WR-RELCALID:876ed6e814ab3cae12ade7c411db8c9a
X-WR-TIMEZONE:America/Anchorage
BEGIN:VTIMEZONE
TZID:America/Anchorage
BEGIN:STANDARD
TZNAME:AKST
DTSTART:20221106T020000
TZOFFSETFROM:-0800
TZOFFSETTO:-0900
RDATE:20231105T020000
END:STANDARD
BEGIN:DAYLIGHT
TZNAME:AKDT
DTSTART:20220313T020000
TZOFFSETFROM:-0900
TZOFFSETTO:-0800
RDATE:20230312T020000
RDATE:20240310T020000
END:DAYLIGHT
END:VTIMEZONE
BEGIN:VEVENT
UID:d4f3851c-4536-4fe6-81db-9f08494493cd
DTSTAMP:20260419T223442Z
DESCRIPTION:Stories at Latitude 56 with host Jack Finnegan bring you seven 
 Story SLAM events at the Alaska Fish House! $3 at the door. Join us for im
 promptu storytelling with friends\, neighbors\, and visitors! Themes are s
 uggestions\, not requirements!\n
DTSTART;TZID=America/Anchorage:20230110T193000
DTEND;TZID=America/Anchorage:20230110T220000
LOCATION:The Alaska Fish House
SUMMARY:Story Slam 'On the Line'
END:VEVENT
END:VCALENDAR
