BEGIN:VCALENDAR
VERSION:2.0
PRODID:-//www.ketchikanarts.org//NONSGML kigkonsult.se iCalcreator 2.30.10/
 /
CALSCALE:GREGORIAN
METHOD:PUBLISH
UID:7c9d036a-bd8e-43f2-a769-b5e7d48010aa
X-WR-CALDESC:Applications are available for 'Choose Wisely'  the 37th Annua
 l Wearable Art Show!!!  \nApply Now!
X-WR-RELCALID:bb8cc099ded400ff8d20ddef565aaba7
X-WR-TIMEZONE:America/Anchorage
BEGIN:VTIMEZONE
TZID:America/Anchorage
BEGIN:STANDARD
TZNAME:AKST
DTSTART:20221106T020000
TZOFFSETFROM:-0800
TZOFFSETTO:-0900
RDATE:20231105T020000
END:STANDARD
BEGIN:DAYLIGHT
TZNAME:AKDT
DTSTART:20220313T020000
TZOFFSETFROM:-0900
TZOFFSETTO:-0800
RDATE:20230312T020000
RDATE:20240310T020000
END:DAYLIGHT
END:VTIMEZONE
BEGIN:VEVENT
UID:bdb8f3d1-dc2b-4f25-a487-384bb2a9c75b
DTSTAMP:20260419T223314Z
DESCRIPTION:Applications are available for 'Choose Wisely'  the 37th Annual
  Wearable Art Show!!!  \nApply Now!
DTSTART;TZID=America/Anchorage:20230109T000000
DTEND;TZID=America/Anchorage:20230109T235900
LOCATION:
SUMMARY:Wearable Art Show Application Deadline
END:VEVENT
END:VCALENDAR
