BEGIN:VCALENDAR
VERSION:2.0
PRODID:-//www.ketchikanarts.org//NONSGML kigkonsult.se iCalcreator 2.30.10/
 /
CALSCALE:GREGORIAN
METHOD:PUBLISH
UID:64e42e26-7eb2-4069-a44f-625b82c83bd2
X-WR-CALDESC:
X-WR-RELCALID:d1d319c3ca1fa594b119f6f804fa8b03
X-WR-TIMEZONE:America/Anchorage
BEGIN:VTIMEZONE
TZID:America/Anchorage
BEGIN:STANDARD
TZNAME:AKST
DTSTART:20221106T020000
TZOFFSETFROM:-0800
TZOFFSETTO:-0900
RDATE:20231105T020000
END:STANDARD
BEGIN:DAYLIGHT
TZNAME:AKDT
DTSTART:20220313T020000
TZOFFSETFROM:-0900
TZOFFSETTO:-0800
RDATE:20230312T020000
RDATE:20240310T020000
END:DAYLIGHT
END:VTIMEZONE
BEGIN:VEVENT
UID:639ea4bb-9417-45fd-b943-b1a518ac18a5
DTSTAMP:20260420T000557Z
DESCRIPTION:
DTSTART;TZID=America/Anchorage:20221221T000000
DTEND;TZID=America/Anchorage:20221221T235900
LOCATION:
SUMMARY:Kayhi Out No School
END:VEVENT
END:VCALENDAR
