BEGIN:VCALENDAR
VERSION:2.0
PRODID:-//www.ketchikanarts.org//NONSGML kigkonsult.se iCalcreator 2.30.10/
 /
CALSCALE:GREGORIAN
METHOD:PUBLISH
UID:2c856b52-9983-45bf-b6a9-20812fa966fb
X-WR-CALDESC:KAAHC takes a brief respite in these two weeks. Please join us
  January 6th for the opening of 'An Expression of Natural Light' at the Ma
 in Street Gallery\, 5pm to 7pm.
X-WR-RELCALID:cee04346b74f44f7c92f0885ad93adb5
X-WR-TIMEZONE:America/Anchorage
BEGIN:VTIMEZONE
TZID:America/Anchorage
BEGIN:STANDARD
TZNAME:AKST
DTSTART:20221106T020000
TZOFFSETFROM:-0800
TZOFFSETTO:-0900
RDATE:20231105T020000
END:STANDARD
BEGIN:DAYLIGHT
TZNAME:AKDT
DTSTART:20220313T020000
TZOFFSETFROM:-0900
TZOFFSETTO:-0800
RDATE:20230312T020000
RDATE:20240310T020000
END:DAYLIGHT
END:VTIMEZONE
BEGIN:VEVENT
UID:207067a5-408a-4091-91f7-48ea8d9235ee
DTSTAMP:20260420T000335Z
DESCRIPTION:KAAHC takes a brief respite in these two weeks. Please join us 
 January 6th for the opening of 'An Expression of Natural Light' at the Mai
 n Street Gallery\, 5pm to 7pm.
DTSTART;TZID=America/Anchorage:20221219T000000
DTEND;TZID=America/Anchorage:20230102T235900
LOCATION:330 Main St\, Ketchikan AK 99901
SUMMARY:Main Street Gallery Closed
END:VEVENT
END:VCALENDAR
