BEGIN:VCALENDAR
VERSION:2.0
PRODID:-//www.ketchikanarts.org//NONSGML kigkonsult.se iCalcreator 2.30.10/
 /
CALSCALE:GREGORIAN
METHOD:PUBLISH
UID:4a3b23ea-4c2e-40de-a9f8-88862ad94cce
X-WR-CALDESC:
X-WR-RELCALID:5bb0d1ea72e005453391d2f3e19820b3
X-WR-TIMEZONE:America/Anchorage
BEGIN:VTIMEZONE
TZID:America/Anchorage
BEGIN:STANDARD
TZNAME:AKST
DTSTART:20221106T020000
TZOFFSETFROM:-0800
TZOFFSETTO:-0900
RDATE:20231105T020000
END:STANDARD
BEGIN:DAYLIGHT
TZNAME:AKDT
DTSTART:20220313T020000
TZOFFSETFROM:-0900
TZOFFSETTO:-0800
RDATE:20230312T020000
RDATE:20240310T020000
END:DAYLIGHT
END:VTIMEZONE
BEGIN:VEVENT
UID:f2a97ef4-d1ff-49d9-b26c-00de749ac563
DTSTAMP:20260419T235635Z
DESCRIPTION:
DTSTART;TZID=America/Anchorage:20221217T193000
DTEND;TZID=America/Anchorage:20221218T213000
LOCATION:Ketchikan High Auditorium
SUMMARY:The Nutcracker
END:VEVENT
END:VCALENDAR
