BEGIN:VCALENDAR
VERSION:2.0
PRODID:-//www.ketchikanarts.org//NONSGML kigkonsult.se iCalcreator 2.30.10/
 /
CALSCALE:GREGORIAN
METHOD:PUBLISH
UID:36833e22-191b-4151-8c4d-8db6db0e42ca
X-WR-CALDESC:
X-WR-RELCALID:e7e5f04270cfe67b13c69e4705805f7a
X-WR-TIMEZONE:America/Anchorage
BEGIN:VTIMEZONE
TZID:America/Anchorage
BEGIN:STANDARD
TZNAME:AKST
DTSTART:20221106T020000
TZOFFSETFROM:-0800
TZOFFSETTO:-0900
RDATE:20231105T020000
END:STANDARD
BEGIN:DAYLIGHT
TZNAME:AKDT
DTSTART:20220313T020000
TZOFFSETFROM:-0900
TZOFFSETTO:-0800
RDATE:20230312T020000
RDATE:20240310T020000
END:DAYLIGHT
END:VTIMEZONE
BEGIN:VEVENT
UID:297bb900-fa9a-4ec0-9b83-c0ee447c5ea6
DTSTAMP:20260419T234631Z
DESCRIPTION:
DTSTART;TZID=America/Anchorage:20221210T000000
DTEND;TZID=America/Anchorage:20221210T235900
LOCATION:
SUMMARY:Meet the Kings
END:VEVENT
END:VCALENDAR
