BEGIN:VCALENDAR
VERSION:2.0
PRODID:-//www.ketchikanarts.org//NONSGML kigkonsult.se iCalcreator 2.30.10/
 /
CALSCALE:GREGORIAN
METHOD:PUBLISH
UID:d439d84c-b101-497e-8add-ab4cdc749f3b
X-WR-CALDESC:Save the date. Come dressed to the nines and ready to shine wi
 th a chance to do your prom all over again featuring music from Woody's Fi
 nest Hour!
X-WR-RELCALID:86e2d324f665090ae3c90cd635f99184
X-WR-TIMEZONE:America/Anchorage
BEGIN:VTIMEZONE
TZID:America/Anchorage
BEGIN:STANDARD
TZNAME:AKST
DTSTART:20221106T020000
TZOFFSETFROM:-0800
TZOFFSETTO:-0900
RDATE:20231105T020000
END:STANDARD
BEGIN:DAYLIGHT
TZNAME:AKDT
DTSTART:20220313T020000
TZOFFSETFROM:-0900
TZOFFSETTO:-0800
RDATE:20230312T020000
RDATE:20240310T020000
END:DAYLIGHT
END:VTIMEZONE
BEGIN:VEVENT
UID:660434f6-b68c-4eae-8eae-ea47883f22f6
DTSTAMP:20260419T235824Z
DESCRIPTION:Save the date. Come dressed to the nines and ready to shine wit
 h a chance to do your prom all over again featuring music from Woody's Fin
 est Hour!
DTSTART;TZID=America/Anchorage:20221210T193000
DTEND;TZID=America/Anchorage:20221210T203000
LOCATION:Ted Ferry Civic Center
SUMMARY:Adult Prom
END:VEVENT
END:VCALENDAR
